BEGIN:VCALENDAR
VERSION:2.0
PRODID:-//wp-events-plugin.com//7.2.2.1//EN
TZID:Europe/Berlin
X-WR-TIMEZONE:Europe/Berlin
BEGIN:VEVENT
UID:414@yoga-kurse-mannheim.de
DTSTART;TZID=Europe/Berlin:20250927T100000
DTEND;TZID=Europe/Berlin:20250927T163000
DTSTAMP:20250829T063513Z
URL:https://www.yoga-kurse-mannheim.de/kurse/ayurveda-entspannungstag-vhs-
 mannheim/
SUMMARY:Ayurveda Entspannungstag VHS Mannheim
DESCRIPTION:Beginn: Sa.\, 27.09.2025\, 10:00 - 16:30 Uhr\nKursgebühr: 52\,
 00 €\nDauer: 1 Termin\nKursleitung\nChristine Dettmar\nKursort\nAbendaka
 demie\, Raum 602\nU1\, 16 - 19\, 68161 Mannheim\nAyurveda ist eine Jahrtau
 sende alte\, indische Wissenschaft vom Leben\, die den Menschen in seiner 
 Ganzheitlichkeit betrachtet. Es gibt viele Alltagsroutinen um den Tag bewu
 sster zu gestalten und mit kleinen Mitteln mehr Harmonie und Gleichgewicht
  zu erfahren. Sie erhalten Einblicke in den ayurvedischen Lifestyle\, der 
 sich an Tages- und Jahreszeit-Rhythmen orientiert. In einer Selbst-Typbest
 immung besprechen wir die Konstitutions-Typen und Doshas Vata\, Pitta\, Ka
 pha. Sie erfahren wie Sie\, mit der ayurvedische Ernährungslehre und der 
 ihr zu Grunde liegenden sechs Geschmacksrichtungen\, Ihre Ungleichgewichte
  wieder in Balance bringen können. Darüber hinaus pflegt Ayurveda einen 
 Lebensstil\, zu dem Übungen aus dem Marma-Yoga\, Meditation und ayurvedis
 che Massage gehören.  Diese besprechen und praktizieren wir gemeinsam um
  sie leichter zur Gewohnheit werden zu lassen. All das macht den Ayurvedat
 ag-Tag zu einem besonderen\, lang anhaltendem Erlebnis.\nBitte mitbringen:
  kleines und großes Badetuch\, Kissen\, rutschfeste warme Socken\, Decke\
 , Wasser und Imbiss für die Pause.\nAnmeldung über die Mannheimer Abenda
 kademie
CATEGORIES:Workshop
END:VEVENT
BEGIN:VTIMEZONE
TZID:Europe/Berlin
X-LIC-LOCATION:Europe/Berlin
BEGIN:DAYLIGHT
DTSTART:20250330T030000
TZOFFSETFROM:+0100
TZOFFSETTO:+0200
TZNAME:CEST
END:DAYLIGHT
END:VTIMEZONE
END:VCALENDAR