BEGIN:VCALENDAR
VERSION:2.0
PRODID:-//wp-events-plugin.com//7.2.2.1//EN
TZID:Europe/Berlin
X-WR-TIMEZONE:Europe/Berlin
BEGIN:VEVENT
UID:1208@yoga-kurse-mannheim.de
DTSTART;TZID=Europe/Berlin:20260214T100000
DTEND;TZID=Europe/Berlin:20260214T130000
DTSTAMP:20260116T093935Z
URL:https://www.yoga-kurse-mannheim.de/kurse/massage-workshop-fuer-paare-a
 m-valentinstag/
SUMMARY:Massage-Workshop für Paare am Valentinstag
DESCRIPTION:Massage-Workshop für Paare am Valentinstag:\nSamstag\, 14. Feb
 ruar 2026 von 10 - 13 Uhr\nSich berühren lassen und sanft berühren ist d
 as größte Geschenk\, das man sich gegenseitig machen kann.\nWir lernen e
 infache Massage-Griffe aus der Ayurveda-Massage und entspannen uns gegense
 itig durch die achtsame Berührung.\nPro Person: 75\,- €
CATEGORIES:Workshop
END:VEVENT
BEGIN:VTIMEZONE
TZID:Europe/Berlin
X-LIC-LOCATION:Europe/Berlin
BEGIN:STANDARD
DTSTART:20251026T020000
TZOFFSETFROM:+0200
TZOFFSETTO:+0100
TZNAME:CET
END:STANDARD
END:VTIMEZONE
END:VCALENDAR